BEGIN:VCALENDAR
VERSION:2.0
PRODID:-//KEILA LINNA SÜNDMUSED - ECPv6.15.20//NONSGML v1.0//EN
CALSCALE:GREGORIAN
METHOD:PUBLISH
X-WR-CALNAME:KEILA LINNA SÜNDMUSED
X-ORIGINAL-URL:https://visit.keila.ee
X-WR-CALDESC:Events for KEILA LINNA SÜNDMUSED
REFRESH-INTERVAL;VALUE=DURATION:PT1H
X-Robots-Tag:noindex
X-PUBLISHED-TTL:PT1H
BEGIN:VTIMEZONE
TZID:Europe/Helsinki
BEGIN:DAYLIGHT
TZOFFSETFROM:+0200
TZOFFSETTO:+0300
TZNAME:EEST
DTSTART:20250330T010000
END:DAYLIGHT
BEGIN:STANDARD
TZOFFSETFROM:+0300
TZOFFSETTO:+0200
TZNAME:EET
DTSTART:20251026T010000
END:STANDARD
BEGIN:DAYLIGHT
TZOFFSETFROM:+0200
TZOFFSETTO:+0300
TZNAME:EEST
DTSTART:20260329T010000
END:DAYLIGHT
BEGIN:STANDARD
TZOFFSETFROM:+0300
TZOFFSETTO:+0200
TZNAME:EET
DTSTART:20261025T010000
END:STANDARD
BEGIN:DAYLIGHT
TZOFFSETFROM:+0200
TZOFFSETTO:+0300
TZNAME:EEST
DTSTART:20270328T010000
END:DAYLIGHT
BEGIN:STANDARD
TZOFFSETFROM:+0300
TZOFFSETTO:+0200
TZNAME:EET
DTSTART:20271031T010000
END:STANDARD
END:VTIMEZONE
BEGIN:VEVENT
DTSTART;TZID=Europe/Helsinki:20260327T180000
DTEND;TZID=Europe/Helsinki:20260327T210000
DTSTAMP:20260424T134051
CREATED:20260323T124434Z
LAST-MODIFIED:20260323T124434Z
UID:11621-1774634400-1774645200@visit.keila.ee
SUMMARY:Vaigukipsist esemed- Lihavõtte eri
DESCRIPTION:Reede\, 27. märts kell 18:00 – 20:30 \nMy Art Studio OÜ\, Keila \n\n\n\n\n\n\n\nOled oodatud lihavõtte teemalisse vaigukipsi õpituppa! \nÕpituba sobib nii algajatele kui ka neile\, kes on juba varem kipsi valanud. Samuti sobib lastele alates 8 aastat (iseseisvalt) või noorematele koos täiskasvanust saatjaga. \nTule loo ise ainulaadsed ja südamega tehtud esemed endale või lihavõtte kingituseks. Aga võimalus on valmistada ka igapäevaseks kasutuseks olevaid vaigukipsist aluseid\, karpe\, topse\, küünlajalgu\, ingleid\, kujukesi ja palju muud põnevat. Õpetajal on kaasas väga suur valik erinevaid vorme. \nSoovi korral saab need kaunistada kulla/hõbeda/pronksi lehtedega\, maalida akrüülvärvidega\, lisada sädelevaid mica pulbreid jne. \nKõik vajalikud materjalid ja juhendamine on hinna sees. \nTöötoas pakume veini\, kohvi/teed ja suupisteid. \nHind 32 € \nKohtade arv on piiratud! \nHuvi korral osta pilet aegsasti: \nhttps://fienta.com/et/lihavotte-eri-vaigukipsist-esemed
URL:https://visit.keila.ee/sundmus/vaigukipsist-esemed-lihavotte-eri/
CATEGORIES:Koolitus
ATTACH;FMTTYPE=image/jpeg:https://visit.keila.ee/wp-content/uploads/2026/03/IMG_5540.jpg
ORGANIZER;CN="My Art Studio":MAILTO:gerly@myartstudio.ee
END:VEVENT
END:VCALENDAR