BEGIN:VCALENDAR
VERSION:2.0
PRODID:-//KEILA LINNA SÜNDMUSED - ECPv6.15.20//NONSGML v1.0//EN
CALSCALE:GREGORIAN
METHOD:PUBLISH
X-WR-CALNAME:KEILA LINNA SÜNDMUSED
X-ORIGINAL-URL:https://visit.keila.ee
X-WR-CALDESC:Events for KEILA LINNA SÜNDMUSED
REFRESH-INTERVAL;VALUE=DURATION:PT1H
X-Robots-Tag:noindex
X-PUBLISHED-TTL:PT1H
BEGIN:VTIMEZONE
TZID:Europe/Helsinki
BEGIN:DAYLIGHT
TZOFFSETFROM:+0200
TZOFFSETTO:+0300
TZNAME:EEST
DTSTART:20240331T010000
END:DAYLIGHT
BEGIN:STANDARD
TZOFFSETFROM:+0300
TZOFFSETTO:+0200
TZNAME:EET
DTSTART:20241027T010000
END:STANDARD
BEGIN:DAYLIGHT
TZOFFSETFROM:+0200
TZOFFSETTO:+0300
TZNAME:EEST
DTSTART:20250330T010000
END:DAYLIGHT
BEGIN:STANDARD
TZOFFSETFROM:+0300
TZOFFSETTO:+0200
TZNAME:EET
DTSTART:20251026T010000
END:STANDARD
BEGIN:DAYLIGHT
TZOFFSETFROM:+0200
TZOFFSETTO:+0300
TZNAME:EEST
DTSTART:20260329T010000
END:DAYLIGHT
BEGIN:STANDARD
TZOFFSETFROM:+0300
TZOFFSETTO:+0200
TZNAME:EET
DTSTART:20261025T010000
END:STANDARD
END:VTIMEZONE
BEGIN:VEVENT
DTSTART;TZID=Europe/Helsinki:20250923T153000
DTEND;TZID=Europe/Helsinki:20250923T163000
DTSTAMP:20260422T211439
CREATED:20250915T105520Z
LAST-MODIFIED:20250915T105520Z
UID:9635-1758641400-1758645000@visit.keila.ee
SUMMARY:TOMATIPÄEV
DESCRIPTION:Külas on botaanik\, (taime)kollektsionäär ja kooliõpetaja Andres Kask. Kohtumise teemaks on “Kuidas me sel aastal tomatitega hakkama saime?”. Lisaks tuleb juttu iiristest ja päevaliiliatest.
URL:https://visit.keila.ee/sundmus/tomatipaev-2/
LOCATION:Keila Sotsiaalkeskus\, Männipargi 1-3\, Keila
CATEGORIES:loeng
ATTACH;FMTTYPE=image/png:https://visit.keila.ee/wp-content/uploads/2025/09/TOMATIPAEV-2.png
ORGANIZER;CN="Keila Sotsiaalkeskus":MAILTO:info@keilasots.ee
END:VEVENT
END:VCALENDAR