BEGIN:VCALENDAR
VERSION:2.0
PRODID:-//KEILA LINNA SÜNDMUSED - ECPv6.15.20//NONSGML v1.0//EN
CALSCALE:GREGORIAN
METHOD:PUBLISH
X-WR-CALNAME:KEILA LINNA SÜNDMUSED
X-ORIGINAL-URL:https://visit.keila.ee
X-WR-CALDESC:Events for KEILA LINNA SÜNDMUSED
REFRESH-INTERVAL;VALUE=DURATION:PT1H
X-Robots-Tag:noindex
X-PUBLISHED-TTL:PT1H
BEGIN:VTIMEZONE
TZID:Europe/Helsinki
BEGIN:DAYLIGHT
TZOFFSETFROM:+0200
TZOFFSETTO:+0300
TZNAME:EEST
DTSTART:20250330T010000
END:DAYLIGHT
BEGIN:STANDARD
TZOFFSETFROM:+0300
TZOFFSETTO:+0200
TZNAME:EET
DTSTART:20251026T010000
END:STANDARD
BEGIN:DAYLIGHT
TZOFFSETFROM:+0200
TZOFFSETTO:+0300
TZNAME:EEST
DTSTART:20260329T010000
END:DAYLIGHT
BEGIN:STANDARD
TZOFFSETFROM:+0300
TZOFFSETTO:+0200
TZNAME:EET
DTSTART:20261025T010000
END:STANDARD
BEGIN:DAYLIGHT
TZOFFSETFROM:+0200
TZOFFSETTO:+0300
TZNAME:EEST
DTSTART:20270328T010000
END:DAYLIGHT
BEGIN:STANDARD
TZOFFSETFROM:+0300
TZOFFSETTO:+0200
TZNAME:EET
DTSTART:20271031T010000
END:STANDARD
END:VTIMEZONE
BEGIN:VEVENT
DTSTART;TZID=Europe/Helsinki:20260428T140000
DTEND;TZID=Europe/Helsinki:20260428T150000
DTSTAMP:20260423T143703
CREATED:20260420T080126Z
LAST-MODIFIED:20260420T080126Z
UID:11981-1777384800-1777388400@visit.keila.ee
SUMMARY:Teisipäevane Jutu- ja Meisterdamise Klubi
DESCRIPTION:Iga kuu teisel ja neljandal teisipäeval kell 14.00-15.00 ootame 1.-5. klassi lapsi raamatukogu lastetuppa\, kus saame koos aega veeta. Plaanis on erinevad teematunnid\, arutelud\, ettelugemised\, meisterdamised ja muud ülesanded. Registreeri oma osalemine raamatukogu lasteletis või telefonil 675 5737.
URL:https://visit.keila.ee/sundmus/teisipaevane-jutu-ja-meisterdamise-klubi-4/
LOCATION:Harju Maakonnaraamatukogu\, Ehitajate tee 1\, Keila\, Eesti
CATEGORIES:Muu
ATTACH;FMTTYPE=image/jpeg:https://visit.keila.ee/wp-content/uploads/2026/04/Teisipaevane-Jutu-ja-Meisterdamise-Klubi-vol-5-.jpg
END:VEVENT
END:VCALENDAR