BEGIN:VCALENDAR
VERSION:2.0
PRODID:-//KEILA LINNA SÜNDMUSED - ECPv6.15.20//NONSGML v1.0//EN
CALSCALE:GREGORIAN
METHOD:PUBLISH
X-WR-CALNAME:KEILA LINNA SÜNDMUSED
X-ORIGINAL-URL:https://visit.keila.ee
X-WR-CALDESC:Events for KEILA LINNA SÜNDMUSED
REFRESH-INTERVAL;VALUE=DURATION:PT1H
X-Robots-Tag:noindex
X-PUBLISHED-TTL:PT1H
BEGIN:VTIMEZONE
TZID:Europe/Helsinki
BEGIN:DAYLIGHT
TZOFFSETFROM:+0200
TZOFFSETTO:+0300
TZNAME:EEST
DTSTART:20240331T010000
END:DAYLIGHT
BEGIN:STANDARD
TZOFFSETFROM:+0300
TZOFFSETTO:+0200
TZNAME:EET
DTSTART:20241027T010000
END:STANDARD
BEGIN:DAYLIGHT
TZOFFSETFROM:+0200
TZOFFSETTO:+0300
TZNAME:EEST
DTSTART:20250330T010000
END:DAYLIGHT
BEGIN:STANDARD
TZOFFSETFROM:+0300
TZOFFSETTO:+0200
TZNAME:EET
DTSTART:20251026T010000
END:STANDARD
BEGIN:DAYLIGHT
TZOFFSETFROM:+0200
TZOFFSETTO:+0300
TZNAME:EEST
DTSTART:20260329T010000
END:DAYLIGHT
BEGIN:STANDARD
TZOFFSETFROM:+0300
TZOFFSETTO:+0200
TZNAME:EET
DTSTART:20261025T010000
END:STANDARD
END:VTIMEZONE
BEGIN:VEVENT
DTSTART;TZID=Europe/Helsinki:20251113T110000
DTEND;TZID=Europe/Helsinki:20251113T120000
DTSTAMP:20260422T114306
CREATED:20251022T113341Z
LAST-MODIFIED:20251022T113341Z
UID:10028-1763031600-1763035200@visit.keila.ee
SUMMARY:Tähestiku sündmus lastele: Õ nagu ÕUDUSJUTT
DESCRIPTION:2025. aasta on Eesti Raamatu Aasta ning meie raamatukogu lasteteenindus on ühinenud üle-eestilise üleskutsega teha tähestiku sündmuseid. Meie raamatukogus toimuvad tähestiku sündmused iga kuu teisel ja neljandal neljapäeval kell 11.00. Igal tähestiku sündmusel räägime\, loeme või jutustame ühel väljavalitud teemal ning pakume ka lihtsamat käelist tegevust.Avalikult välja kuulutatud aegadel ootame nii koduseid lapsi (koos vanemate/vanavanemate või hoidjatega) kui ka lasteaia rühmasid.Lasteaia rühmadel palume oma osalemine eelnevalt registreerida.Lasteaia rühmadel on võimalik tähestiku sündmusest osa saada ka mõnel teisel endale sobival ajal. Tuleb meiega lihtsalt ühendust võtta ja sobiv aeg kokku leppida. Seda saab teha telefonil 675 5737 või e-mailil kersti.salf@hcl.ee.
URL:https://visit.keila.ee/sundmus/tahestiku-sundmus-lastele-o-nagu-oudusjutt/
LOCATION:Harju Maakonnaraamatukogu\, Ehitajate tee 1\, Keila\, Eesti
CATEGORIES:Muu
ATTACH;FMTTYPE=image/png:https://visit.keila.ee/wp-content/uploads/2025/10/Tahestiku-sundmused-13.png
END:VEVENT
END:VCALENDAR