BEGIN:VCALENDAR
VERSION:2.0
PRODID:-//KEILA LINNA SÜNDMUSED - ECPv6.15.20//NONSGML v1.0//EN
CALSCALE:GREGORIAN
METHOD:PUBLISH
X-WR-CALNAME:KEILA LINNA SÜNDMUSED
X-ORIGINAL-URL:https://visit.keila.ee
X-WR-CALDESC:Events for KEILA LINNA SÜNDMUSED
REFRESH-INTERVAL;VALUE=DURATION:PT1H
X-Robots-Tag:noindex
X-PUBLISHED-TTL:PT1H
BEGIN:VTIMEZONE
TZID:Europe/Helsinki
BEGIN:DAYLIGHT
TZOFFSETFROM:+0200
TZOFFSETTO:+0300
TZNAME:EEST
DTSTART:20250330T010000
END:DAYLIGHT
BEGIN:STANDARD
TZOFFSETFROM:+0300
TZOFFSETTO:+0200
TZNAME:EET
DTSTART:20251026T010000
END:STANDARD
BEGIN:DAYLIGHT
TZOFFSETFROM:+0200
TZOFFSETTO:+0300
TZNAME:EEST
DTSTART:20260329T010000
END:DAYLIGHT
BEGIN:STANDARD
TZOFFSETFROM:+0300
TZOFFSETTO:+0200
TZNAME:EET
DTSTART:20261025T010000
END:STANDARD
BEGIN:DAYLIGHT
TZOFFSETFROM:+0200
TZOFFSETTO:+0300
TZNAME:EEST
DTSTART:20270328T010000
END:DAYLIGHT
BEGIN:STANDARD
TZOFFSETFROM:+0300
TZOFFSETTO:+0200
TZNAME:EET
DTSTART:20271031T010000
END:STANDARD
END:VTIMEZONE
BEGIN:VEVENT
DTSTART;TZID=Europe/Helsinki:20260207T080000
DTEND;TZID=Europe/Helsinki:20260207T170000
DTSTAMP:20260423T112910
CREATED:20260207T192607Z
LAST-MODIFIED:20260207T192635Z
UID:11179-1770451200-1770483600@visit.keila.ee
SUMMARY:Sõbrapäeva Trial
DESCRIPTION:Päevakava : \n– registreerimine võistlusele kell 10.00 – 11.30 NB! Võistlusel osalemine ainult eelregistreerimisega\, mis lõpeb 10.veebruar kell 11.02 \n–  Võistluse avamine ja koosolek kell 11.30 \n–  Esimese võistleja start kell 12.00 \nVõistlustasu kõikidele klassidele 40.- EUR\, sularahas kohapeal \nPealtvaatamine tasuta
URL:https://visit.keila.ee/sundmus/sobrapaeva-trial/
LOCATION:Keila Motohall\, Tööstuse tn 7\, Keila\, Estonia
CATEGORIES:Spordisündmus
ATTACH;FMTTYPE=image/jpeg:https://visit.keila.ee/wp-content/uploads/2026/02/629333288_1331100225714833_462795244957540910_n.jpg
END:VEVENT
END:VCALENDAR