BEGIN:VCALENDAR
VERSION:2.0
PRODID:-//KEILA LINNA SÜNDMUSED - ECPv6.15.20//NONSGML v1.0//EN
CALSCALE:GREGORIAN
METHOD:PUBLISH
X-WR-CALNAME:KEILA LINNA SÜNDMUSED
X-ORIGINAL-URL:https://visit.keila.ee
X-WR-CALDESC:Events for KEILA LINNA SÜNDMUSED
REFRESH-INTERVAL;VALUE=DURATION:PT1H
X-Robots-Tag:noindex
X-PUBLISHED-TTL:PT1H
BEGIN:VTIMEZONE
TZID:Europe/Helsinki
BEGIN:DAYLIGHT
TZOFFSETFROM:+0200
TZOFFSETTO:+0300
TZNAME:EEST
DTSTART:20250330T010000
END:DAYLIGHT
BEGIN:STANDARD
TZOFFSETFROM:+0300
TZOFFSETTO:+0200
TZNAME:EET
DTSTART:20251026T010000
END:STANDARD
BEGIN:DAYLIGHT
TZOFFSETFROM:+0200
TZOFFSETTO:+0300
TZNAME:EEST
DTSTART:20260329T010000
END:DAYLIGHT
BEGIN:STANDARD
TZOFFSETFROM:+0300
TZOFFSETTO:+0200
TZNAME:EET
DTSTART:20261025T010000
END:STANDARD
BEGIN:DAYLIGHT
TZOFFSETFROM:+0200
TZOFFSETTO:+0300
TZNAME:EEST
DTSTART:20270328T010000
END:DAYLIGHT
BEGIN:STANDARD
TZOFFSETFROM:+0300
TZOFFSETTO:+0200
TZNAME:EET
DTSTART:20271031T010000
END:STANDARD
END:VTIMEZONE
BEGIN:VEVENT
DTSTART;TZID=Europe/Helsinki:20260410T130000
DTEND;TZID=Europe/Helsinki:20260410T160000
DTSTAMP:20260422T193913
CREATED:20260327T102336Z
LAST-MODIFIED:20260327T102336Z
UID:11700-1775826000-1775836800@visit.keila.ee
SUMMARY:Sinilillepäev
DESCRIPTION:Naiskodukaitse Keila I jaoskond ja Keila Noortekeskus korraldavad   Keila noortekeskuses Sinilillepäeva veteranide toetuseks. \nMida üritusel teha saab? Osale Sinilille joonistusvõistlusel Osale viktoriinil – parimatele auhinnad\nLisaks saad ülevaate\, mida teevad naiskodukaitsjad\,  kodutütred ja noorkotkad.\nVõta kaasa sularaha\, kohapeal saad soetada sinilillekampaania tooteid ja toetada Kaitseväe ja Kaitseliidu veterane.
URL:https://visit.keila.ee/sundmus/sinilillepaev/
LOCATION:Keila Noortekeskus\, Mäe 7\, Keila
CATEGORIES:Muu
ATTACH;FMTTYPE=image/jpeg:https://visit.keila.ee/wp-content/uploads/2026/03/435e4bb4-ec90-4cb9-bae1-d6f5c92c11b4.jpg
ORGANIZER;CN="Naiskodukaitse I jaoskond":MAILTO:pilleriin63@yahoo.com
END:VEVENT
END:VCALENDAR