BEGIN:VCALENDAR
VERSION:2.0
PRODID:-//KEILA LINNA SÜNDMUSED - ECPv6.15.20//NONSGML v1.0//EN
CALSCALE:GREGORIAN
METHOD:PUBLISH
X-WR-CALNAME:KEILA LINNA SÜNDMUSED
X-ORIGINAL-URL:https://visit.keila.ee
X-WR-CALDESC:Events for KEILA LINNA SÜNDMUSED
REFRESH-INTERVAL;VALUE=DURATION:PT1H
X-Robots-Tag:noindex
X-PUBLISHED-TTL:PT1H
BEGIN:VTIMEZONE
TZID:Europe/Helsinki
BEGIN:DAYLIGHT
TZOFFSETFROM:+0200
TZOFFSETTO:+0300
TZNAME:EEST
DTSTART:20250330T010000
END:DAYLIGHT
BEGIN:STANDARD
TZOFFSETFROM:+0300
TZOFFSETTO:+0200
TZNAME:EET
DTSTART:20251026T010000
END:STANDARD
BEGIN:DAYLIGHT
TZOFFSETFROM:+0200
TZOFFSETTO:+0300
TZNAME:EEST
DTSTART:20260329T010000
END:DAYLIGHT
BEGIN:STANDARD
TZOFFSETFROM:+0300
TZOFFSETTO:+0200
TZNAME:EET
DTSTART:20261025T010000
END:STANDARD
BEGIN:DAYLIGHT
TZOFFSETFROM:+0200
TZOFFSETTO:+0300
TZNAME:EEST
DTSTART:20270328T010000
END:DAYLIGHT
BEGIN:STANDARD
TZOFFSETFROM:+0300
TZOFFSETTO:+0200
TZNAME:EET
DTSTART:20271031T010000
END:STANDARD
END:VTIMEZONE
BEGIN:VEVENT
DTSTART;TZID=Europe/Helsinki:20260328T220000
DTEND;TZID=Europe/Helsinki:20260329T020000
DTSTAMP:20260422T140542
CREATED:20260323T072015Z
LAST-MODIFIED:20260323T072029Z
UID:11583-1774735200-1774749600@visit.keila.ee
SUMMARY:RAVE IN THE DAYLIGHT: INTO THE NIGHT
DESCRIPTION: RAVE IN THE DAYLIGHT: INTO THE NIGHT \n Kultuurikeeris\, Keila Uksed 22:00 · Muusika kuni 04:00 Star Guest DJ-d alates 23:00 Vanusepiirang: 21+ Pilet: 10€\nTalv on möödas. Linn on ärganud.Aga Keilas tähendab kevad midagi muud – bass hakkab jälle liikuma.\nKui õhtu saabub ja tänavad vaikselt tühjenevad\, juhtub Piiri tänaval midagi teistsugust. Kultuurikeerise uksed avanevad ja sees ootab maailm\, kus valgus vilgub\, rütm pulseerib ja aeg kaotab tähenduse.\n\nSee ei ole lihtsalt pidu.See on rännak päevast öösse – groove’ist techno’ni\, soojast vibest sügava bassini. \n\n STAR GUEST DJ-d (alates 23:00):\nHappyCarlS1lkidaonthedeckz\n\nNeli DJ-d\, neli erinevat energiat. Setid liiguvad üksteise järel nagu lained – igaüks toob tantsupõrandale oma vibe’i ja viib õhtu samm-sammult sügavamale öösse. \n\n Mis sind ees ootab?\n Elektrooniline muusika\, mis hoiab tantsupõranda elus Vilkuvad tuled\, laserid ja bass\, mis liigub läbi põranda Diivanid ja istumisalad\, kus korraks hinge tõmmata – enne kui järgmine lugu jälle tagasi tõmbab Avatud baar hedonistidele\n\nSee on koht\, kusKeila öö saab oma heli. \n\n Sündmust turvab Meeskond Security OÜ\n\nKultuurikeeris jätab endale õiguse tagada meeldiv õhkkond kõigile külalistele – liigselt alkoholi tarvitanud või agressiivse käitumisega isikuid me sisse ei luba.
URL:https://visit.keila.ee/sundmus/rave-in-the-daylight-into-the-night/
LOCATION:Kultuurikeeris\, Piiri 7a\, Keila\, Estonia
CATEGORIES:Kultuurisündmus
ATTACH;FMTTYPE=image/jpeg:https://visit.keila.ee/wp-content/uploads/2026/03/649119967_122278284680244927_4053584017002131147_n.jpg
ORGANIZER;CN="MT%C3%9C Kultuurikeeris":MAILTO:egert186@gmail.com
END:VEVENT
END:VCALENDAR