BEGIN:VCALENDAR
VERSION:2.0
PRODID:-//KEILA LINNA SÜNDMUSED - ECPv6.15.20//NONSGML v1.0//EN
CALSCALE:GREGORIAN
METHOD:PUBLISH
X-WR-CALNAME:KEILA LINNA SÜNDMUSED
X-ORIGINAL-URL:https://visit.keila.ee
X-WR-CALDESC:Events for KEILA LINNA SÜNDMUSED
REFRESH-INTERVAL;VALUE=DURATION:PT1H
X-Robots-Tag:noindex
X-PUBLISHED-TTL:PT1H
BEGIN:VTIMEZONE
TZID:Europe/Helsinki
BEGIN:DAYLIGHT
TZOFFSETFROM:+0200
TZOFFSETTO:+0300
TZNAME:EEST
DTSTART:20250330T010000
END:DAYLIGHT
BEGIN:STANDARD
TZOFFSETFROM:+0300
TZOFFSETTO:+0200
TZNAME:EET
DTSTART:20251026T010000
END:STANDARD
BEGIN:DAYLIGHT
TZOFFSETFROM:+0200
TZOFFSETTO:+0300
TZNAME:EEST
DTSTART:20260329T010000
END:DAYLIGHT
BEGIN:STANDARD
TZOFFSETFROM:+0300
TZOFFSETTO:+0200
TZNAME:EET
DTSTART:20261025T010000
END:STANDARD
BEGIN:DAYLIGHT
TZOFFSETFROM:+0200
TZOFFSETTO:+0300
TZNAME:EEST
DTSTART:20270328T010000
END:DAYLIGHT
BEGIN:STANDARD
TZOFFSETFROM:+0300
TZOFFSETTO:+0200
TZNAME:EET
DTSTART:20271031T010000
END:STANDARD
END:VTIMEZONE
BEGIN:VEVENT
DTSTART;TZID=Europe/Helsinki:20260423T170000
DTEND;TZID=Europe/Helsinki:20260423T180000
DTSTAMP:20260420T053634
CREATED:20260413T175824Z
LAST-MODIFIED:20260413T175824Z
UID:11947-1776963600-1776967200@visit.keila.ee
SUMMARY:Raamatuesitlus: Toomas Kall "LIHTSAD JA ILUSAD"
DESCRIPTION:Kirjastus SE&JS esitleb\nToomas Kall\nLIHTSAD JA ILUSAD\n18 draamateksti aastatest 1978–2026 \nOotame Teid kohtumisele autoriga neljapäeval\, 23. aprillil 2026 kell 5 pärast lõunat Harju Maakonnaraamatukogus Keilas (Ehitajate tee 1).\nKohale saabub üllatuskülaline! \nLÄHEM INFO:\n51 988 102 Elle Veermäe (kirjastus)\n675 5735 Kaja Hõimoja (raamatukogu)
URL:https://visit.keila.ee/sundmus/raamatuesitlus-toomas-kall-lihtsad-ja-ilusad/
LOCATION:Harju Maakonnaraamatukogu\, Ehitajate tee 1\, Keila\, Eesti
CATEGORIES:Kultuurisündmus
ATTACH;FMTTYPE=image/jpeg:https://visit.keila.ee/wp-content/uploads/2026/04/kall_lihtsad-ja-ilusad_esi_tagakaas-scaled.jpg
END:VEVENT
END:VCALENDAR