BEGIN:VCALENDAR
VERSION:2.0
PRODID:-//KEILA LINNA SÜNDMUSED - ECPv6.15.20//NONSGML v1.0//EN
CALSCALE:GREGORIAN
METHOD:PUBLISH
X-WR-CALNAME:KEILA LINNA SÜNDMUSED
X-ORIGINAL-URL:https://visit.keila.ee
X-WR-CALDESC:Events for KEILA LINNA SÜNDMUSED
REFRESH-INTERVAL;VALUE=DURATION:PT1H
X-Robots-Tag:noindex
X-PUBLISHED-TTL:PT1H
BEGIN:VTIMEZONE
TZID:Europe/Helsinki
BEGIN:DAYLIGHT
TZOFFSETFROM:+0200
TZOFFSETTO:+0300
TZNAME:EEST
DTSTART:20250330T010000
END:DAYLIGHT
BEGIN:STANDARD
TZOFFSETFROM:+0300
TZOFFSETTO:+0200
TZNAME:EET
DTSTART:20251026T010000
END:STANDARD
BEGIN:DAYLIGHT
TZOFFSETFROM:+0200
TZOFFSETTO:+0300
TZNAME:EEST
DTSTART:20260329T010000
END:DAYLIGHT
BEGIN:STANDARD
TZOFFSETFROM:+0300
TZOFFSETTO:+0200
TZNAME:EET
DTSTART:20261025T010000
END:STANDARD
BEGIN:DAYLIGHT
TZOFFSETFROM:+0200
TZOFFSETTO:+0300
TZNAME:EEST
DTSTART:20270328T010000
END:DAYLIGHT
BEGIN:STANDARD
TZOFFSETFROM:+0300
TZOFFSETTO:+0200
TZNAME:EET
DTSTART:20271031T010000
END:STANDARD
END:VTIMEZONE
BEGIN:VEVENT
DTSTART;TZID=Europe/Helsinki:20260208T160000
DTEND;TZID=Europe/Helsinki:20260208T183000
DTSTAMP:20260423T152655
CREATED:20251020T113054Z
LAST-MODIFIED:20251020T113054Z
UID:9970-1770566400-1770575400@visit.keila.ee
SUMMARY:"ÖÖKUNINGANNA" Teater Nuutrum
DESCRIPTION:Piret Jaaksi näidend „Öökuninganna“ on pinev lugu kahe väga erineva inimese kohtumisest. Nooruses kuulsas ooperiteatris edukalt lauljana töötanud Elli peab pärast traagilist sündmusteahelat toime tulema eluga Eestis\, olles iga päev tunnistajaks oma paratamatule allakäigule. Põnev sündmustik käivitub kui noor ja ilus sotsiaaltöötaja Jakob ilmub Elli ukselävele. Oma müstiline roll on täita mehel keda nimetatakse Meemeheks. Kes ta on? Mis asju ta ajab ja mis roll on tal täita Elli elus? Vastused võivad olla üllatvad. \nPiret Jaaksi näidend kõneleb ühteaegu humoorikalt ja traagiliselt kahe erineva elusaatuse näitel tunnete\, mõtete ja arusaamade kokkupõrkest\, lahtitõukest ja „parim enne möödas“ hirmust. Samuti sellest\, mis meist jääb maha hetkest\, kui meid enam ei ole. \nAutor Piret Jaaks \nLavastaja Jaanus Nuutre \nKunstnik Jana Wolke \nHelikunstnik Tobias Tammearu \nValguskunstnik Margus Ruhno \nEtenduse juht Inge Kaseleht \nOsades: Ülle Lichtfeldt (Rakvere Teater)\, Miika Pihlak\, Jaanis Valk (Tammsaare teater)
URL:https://visit.keila.ee/sundmus/ookuninganna-teater-nuutrum/
LOCATION:Keila Kultuurikeskus\, Keskväljak 12\, Keila
CATEGORIES:Teater
ATTACH;FMTTYPE=image/png:https://visit.keila.ee/wp-content/uploads/2025/10/ookuninganna.png
END:VEVENT
END:VCALENDAR