BEGIN:VCALENDAR
VERSION:2.0
PRODID:-//KEILA LINNA SÜNDMUSED - ECPv6.15.20//NONSGML v1.0//EN
CALSCALE:GREGORIAN
METHOD:PUBLISH
X-WR-CALNAME:KEILA LINNA SÜNDMUSED
X-ORIGINAL-URL:https://visit.keila.ee
X-WR-CALDESC:Events for KEILA LINNA SÜNDMUSED
REFRESH-INTERVAL;VALUE=DURATION:PT1H
X-Robots-Tag:noindex
X-PUBLISHED-TTL:PT1H
BEGIN:VTIMEZONE
TZID:Europe/Helsinki
BEGIN:DAYLIGHT
TZOFFSETFROM:+0200
TZOFFSETTO:+0300
TZNAME:EEST
DTSTART:20250330T010000
END:DAYLIGHT
BEGIN:STANDARD
TZOFFSETFROM:+0300
TZOFFSETTO:+0200
TZNAME:EET
DTSTART:20251026T010000
END:STANDARD
BEGIN:DAYLIGHT
TZOFFSETFROM:+0200
TZOFFSETTO:+0300
TZNAME:EEST
DTSTART:20260329T010000
END:DAYLIGHT
BEGIN:STANDARD
TZOFFSETFROM:+0300
TZOFFSETTO:+0200
TZNAME:EET
DTSTART:20261025T010000
END:STANDARD
BEGIN:DAYLIGHT
TZOFFSETFROM:+0200
TZOFFSETTO:+0300
TZNAME:EEST
DTSTART:20270328T010000
END:DAYLIGHT
BEGIN:STANDARD
TZOFFSETFROM:+0300
TZOFFSETTO:+0200
TZNAME:EET
DTSTART:20271031T010000
END:STANDARD
END:VTIMEZONE
BEGIN:VEVENT
DTSTART;TZID=Europe/Helsinki:20260516T173000
DTEND;TZID=Europe/Helsinki:20260516T210000
DTSTAMP:20260423T023019
CREATED:20260421T103428Z
LAST-MODIFIED:20260421T103428Z
UID:11999-1778952600-1778965200@visit.keila.ee
SUMMARY:Muuseumiöö "Öös on hääli"
DESCRIPTION:Selle aasta muuseumiöö teema on “Öös on hääli”. Ootame Sind 16. mail Harjumaa Muusemisse. Tule kuula\, vaata ja koge!\n17.30 algab Amandus Adamsoni pühendatud bussiekskursioon “Rännak Amandusega” Keila kiriku parklast (vajalik eelregistreerimine= \n18-21 vahemikus on Harjumaa Muuseumis võimalik tutvuda ajutise väljapanekuga – vanade plaadimängijate ja muu helitehnikaga. Avatud on püsinäitus “Harju elu” ja “Amandus 170” ja muuseumikohvik. \nMuuseumiöö pilet maksab 1€ \n 
URL:https://visit.keila.ee/sundmus/muuseumioo-oos-on-haali/
LOCATION:Harjumaa Muuseum\, Linnuse 9\, Keila
CATEGORIES:Kultuurisündmus
ATTACH;FMTTYPE=image/jpeg:https://visit.keila.ee/wp-content/uploads/2026/04/MOO_2026_JPG.jpg
END:VEVENT
END:VCALENDAR