BEGIN:VCALENDAR
VERSION:2.0
PRODID:-//KEILA LINNA SÜNDMUSED - ECPv6.15.20//NONSGML v1.0//EN
CALSCALE:GREGORIAN
METHOD:PUBLISH
X-WR-CALNAME:KEILA LINNA SÜNDMUSED
X-ORIGINAL-URL:https://visit.keila.ee
X-WR-CALDESC:Events for KEILA LINNA SÜNDMUSED
REFRESH-INTERVAL;VALUE=DURATION:PT1H
X-Robots-Tag:noindex
X-PUBLISHED-TTL:PT1H
BEGIN:VTIMEZONE
TZID:Europe/Helsinki
BEGIN:DAYLIGHT
TZOFFSETFROM:+0200
TZOFFSETTO:+0300
TZNAME:EEST
DTSTART:20240331T010000
END:DAYLIGHT
BEGIN:STANDARD
TZOFFSETFROM:+0300
TZOFFSETTO:+0200
TZNAME:EET
DTSTART:20241027T010000
END:STANDARD
BEGIN:DAYLIGHT
TZOFFSETFROM:+0200
TZOFFSETTO:+0300
TZNAME:EEST
DTSTART:20250330T010000
END:DAYLIGHT
BEGIN:STANDARD
TZOFFSETFROM:+0300
TZOFFSETTO:+0200
TZNAME:EET
DTSTART:20251026T010000
END:STANDARD
BEGIN:DAYLIGHT
TZOFFSETFROM:+0200
TZOFFSETTO:+0300
TZNAME:EEST
DTSTART:20260329T010000
END:DAYLIGHT
BEGIN:STANDARD
TZOFFSETFROM:+0300
TZOFFSETTO:+0200
TZNAME:EET
DTSTART:20261025T010000
END:STANDARD
END:VTIMEZONE
BEGIN:VEVENT
DTSTART;TZID=Europe/Helsinki:20251125T160000
DTEND;TZID=Europe/Helsinki:20251125T190000
DTSTAMP:20260425T235727
CREATED:20251103T082712Z
LAST-MODIFIED:20251106T122237Z
UID:10126-1764086400-1764097200@visit.keila.ee
SUMMARY:Mikro- ja väikeettevõtjate väärtusruumist
DESCRIPTION:Analoogselt eelmisele korrale\, keskendume alguses põnevatele ja ettevõtjaid puudutavatele teemadele ning seejärel on tulemas taas ühistegevus. \nEsmalt räägime Keila lõunapoolsest ümbersõidust. 2022. aastal valminud eelprojekti järgi hakkab Keila lõunapoolne ümbersõit ühendama Keila – Ääsmäe teed Tallinna ringteega. Planeeritud tee kulgeb ümber Keila Jõepargi\, projekti kuuluvad Keila jõge ületav sild ja viadukt üle raudtee. Räägime projekti ajaloost\, ajakavast ning avame seda\, miks see projekt on oluline nii ettevõtjatele\, kui ka Keila linna elanikele. \nSeejärel võtame jutuks Keila Droonipesa plaanid ning tegemised. Keila malevkond koostöös MTÜ-ga Lääne-Harjumaa kaitsjad kavatsevad rajada Keila linna drooniõppekeskuse\, mis oleks suunatud peamiselt Keila ja ka ümberkaudsete valdade noortele nii droonide juhtimise kui ka ehitamise õppeks tasuta huviringina. \nPeale seda teeme ülevaate ruumide kasutamise võimalustest Keila linna allasutustes ning tutvustame linna infokanalite võimalusi\, et kõik ettevõtjad\, kelle mõni sündmus mõtteis mõlkumas teaksid ka linna infokanalite võimalusi. \nNing siis ongi aeg käes ühistegevuseks\, milleks sel korral on 1:1-le võrgustumine. \nNimeks olen pannud sellele Meet&Match. Teen esmalt väikese teoreetilise sissejuhatuse ning seejärel saadki harjutada kasulike vestluste väge. Esmalt harjutame liftikõne koostamist ning seejärel saadki harjutada kõike seda juba praktikas. Vestluste eesmärk on leida kliente\, koostööpartnereid või lihtsalt ägedaid mõtteid. \nAjaliselt võiks ümarlaua ajaline vaade olla alljärgnev: \n15:45 – 16:05                Saabumine \n16:05 – 16:20                 Keila lõunapoolne ümbersõit\, Enno Fels \n16:20 – 16:45                Keila Droonipesa\, Rene Toomse \n16:45 – 17:00                Ruumide kasutamise võimalused Keila linna allasutustes ning linna infokanalite tutvustus\, Triin Merisaar \n17:00 – 17:15                Sissejuhatus Meet&Match võrgustumisüritusele\, Priit Kuuskme \n17:15 – 18:30                Meet&Match teooria praktikasse \n18:30 – 19:00                Võrgustumine\, vabas õhkkonnad sundimatu vestlus\, kojuminek \nTulemas on taas igati kasulik ning tegus pealelõuna! \nEt oskaksime arvestada kohvi/tee ning magusaga\, palun registreeru ümarlauale alljärgneval lingil: \nhttps://forms.gle/5wSFSQSmKEyesWd16 \nJa ka väike üleskutse. \nKui Sa tunned mõnda Keilas tegutsevat mikro- või väikeettevõtjat\, kes meiega eelmisel korral koos ei olnud\, oled oodatud ümarlaua infot temaga jagama.
URL:https://visit.keila.ee/sundmus/mikro-ja-vaikeettevotjate-vaartusruumist/
LOCATION:Kultuurikeeris\, Piiri 7a\, Keila\, Estonia
CATEGORIES:Koolitus,Koosolek,Muu
ATTACH;FMTTYPE=image/png:https://visit.keila.ee/wp-content/uploads/2025/11/Keila-ettevotete-umarlaud_portrait_25.11.2025.png
END:VEVENT
END:VCALENDAR