BEGIN:VCALENDAR
VERSION:2.0
PRODID:-//KEILA LINNA SÜNDMUSED - ECPv6.15.20//NONSGML v1.0//EN
CALSCALE:GREGORIAN
METHOD:PUBLISH
X-WR-CALNAME:KEILA LINNA SÜNDMUSED
X-ORIGINAL-URL:https://visit.keila.ee
X-WR-CALDESC:Events for KEILA LINNA SÜNDMUSED
REFRESH-INTERVAL;VALUE=DURATION:PT1H
X-Robots-Tag:noindex
X-PUBLISHED-TTL:PT1H
BEGIN:VTIMEZONE
TZID:Europe/Helsinki
BEGIN:DAYLIGHT
TZOFFSETFROM:+0200
TZOFFSETTO:+0300
TZNAME:EEST
DTSTART:20250330T010000
END:DAYLIGHT
BEGIN:STANDARD
TZOFFSETFROM:+0300
TZOFFSETTO:+0200
TZNAME:EET
DTSTART:20251026T010000
END:STANDARD
BEGIN:DAYLIGHT
TZOFFSETFROM:+0200
TZOFFSETTO:+0300
TZNAME:EEST
DTSTART:20260329T010000
END:DAYLIGHT
BEGIN:STANDARD
TZOFFSETFROM:+0300
TZOFFSETTO:+0200
TZNAME:EET
DTSTART:20261025T010000
END:STANDARD
BEGIN:DAYLIGHT
TZOFFSETFROM:+0200
TZOFFSETTO:+0300
TZNAME:EEST
DTSTART:20270328T010000
END:DAYLIGHT
BEGIN:STANDARD
TZOFFSETFROM:+0300
TZOFFSETTO:+0200
TZNAME:EET
DTSTART:20271031T010000
END:STANDARD
END:VTIMEZONE
BEGIN:VEVENT
DTSTART;TZID=Europe/Helsinki:20260326T180000
DTEND;TZID=Europe/Helsinki:20260326T210000
DTSTAMP:20260422T143258
CREATED:20260323T124441Z
LAST-MODIFIED:20260323T124441Z
UID:11616-1774548000-1774558800@visit.keila.ee
SUMMARY:Maaliõhtu koos veiniga - struktuurmaal
DESCRIPTION:Neljapäev\, 26. märts kell 18:00 – 21:00 \nMy Art Studio OÜ \n\n\nKeskväljak 6-32\, Keila\n\n\n\n\nTule ja loo koos meiega oma kolmemõõtmeline kunstiteos!\nOled oodatud loovasse ja inspireerivasse õpituppa\, kus sukeldume struktuursete pindade maailma!\nKasutame erinevaid materjale ja tehnikaid\, et saaksid luua isikupärase ja ainulaadse kunstiteose.\nTöötoas kasutame: \n\nLõuendit suurusega 40 x 50 cm\,\nerinevaid pahtleid ja struktuurpastasid\,\npenoplasti palle\,\nkangast\, tihendeid\, puitu\,\npaberit\, merekarpe ja muud põnevat.\nSee on ideaalne võimalus katsetada uutmoodi loomingut\, avastada uusi tehnikaid ja lasta oma fantaasial lennata. Varasem kunstikogemus pole vajalik\, sest meie juhendame Sind samm-sammult!\nÕpitoas pakume veini\, suupisteid ning kohvi/teed.\nHind: 45 €\nPiletid: https://fienta.com/et/struktuurmaali-opituba-174430\nKutsu pere\, sõbrad või töökaaslased endaga kaasa ning tulge koos!
URL:https://visit.keila.ee/sundmus/maaliohtu-koos-veiniga-struktuurmaal/
CATEGORIES:Koolitus
ATTACH;FMTTYPE=image/jpeg:https://visit.keila.ee/wp-content/uploads/2026/03/IMG_6404.jpg
END:VEVENT
END:VCALENDAR