BEGIN:VCALENDAR
VERSION:2.0
PRODID:-//KEILA LINNA SÜNDMUSED - ECPv6.15.20//NONSGML v1.0//EN
CALSCALE:GREGORIAN
METHOD:PUBLISH
X-WR-CALNAME:KEILA LINNA SÜNDMUSED
X-ORIGINAL-URL:https://visit.keila.ee
X-WR-CALDESC:Events for KEILA LINNA SÜNDMUSED
REFRESH-INTERVAL;VALUE=DURATION:PT1H
X-Robots-Tag:noindex
X-PUBLISHED-TTL:PT1H
BEGIN:VTIMEZONE
TZID:Europe/Helsinki
BEGIN:DAYLIGHT
TZOFFSETFROM:+0200
TZOFFSETTO:+0300
TZNAME:EEST
DTSTART:20240331T010000
END:DAYLIGHT
BEGIN:STANDARD
TZOFFSETFROM:+0300
TZOFFSETTO:+0200
TZNAME:EET
DTSTART:20241027T010000
END:STANDARD
BEGIN:DAYLIGHT
TZOFFSETFROM:+0200
TZOFFSETTO:+0300
TZNAME:EEST
DTSTART:20250330T010000
END:DAYLIGHT
BEGIN:STANDARD
TZOFFSETFROM:+0300
TZOFFSETTO:+0200
TZNAME:EET
DTSTART:20251026T010000
END:STANDARD
BEGIN:DAYLIGHT
TZOFFSETFROM:+0200
TZOFFSETTO:+0300
TZNAME:EEST
DTSTART:20260329T010000
END:DAYLIGHT
BEGIN:STANDARD
TZOFFSETFROM:+0300
TZOFFSETTO:+0200
TZNAME:EET
DTSTART:20261025T010000
END:STANDARD
END:VTIMEZONE
BEGIN:VEVENT
DTSTART;TZID=Europe/Helsinki:20250922T080000
DTEND;TZID=Europe/Helsinki:20250923T170000
DTSTAMP:20260422T180838
CREATED:20250919T163648Z
LAST-MODIFIED:20250919T164241Z
UID:9715-1758528000-1758646800@visit.keila.ee
SUMMARY:Liiklus suletud Linnuse teel
DESCRIPTION:Trasside ehituseks suletakse liiklusele Linnuse tänava osa Harjumaa Muuseumi ja Linnuse 3 vahelisel osal 22.09.2025 kell 8:00 – 23.09.2025 kell 17:00. \n 
URL:https://visit.keila.ee/sundmus/liiklus-suletud-linnuse-teel/
LOCATION:Harjumaa Muuseum\, Linnuse 9\, Keila
CATEGORIES:Muu
ATTACH;FMTTYPE=image/jpeg:https://visit.keila.ee/wp-content/uploads/2025/09/Kuvatommis-2025-09-19-193338.jpg
END:VEVENT
END:VCALENDAR