BEGIN:VCALENDAR
VERSION:2.0
PRODID:-//KEILA LINNA SÜNDMUSED - ECPv6.15.20//NONSGML v1.0//EN
CALSCALE:GREGORIAN
METHOD:PUBLISH
X-WR-CALNAME:KEILA LINNA SÜNDMUSED
X-ORIGINAL-URL:https://visit.keila.ee
X-WR-CALDESC:Events for KEILA LINNA SÜNDMUSED
REFRESH-INTERVAL;VALUE=DURATION:PT1H
X-Robots-Tag:noindex
X-PUBLISHED-TTL:PT1H
BEGIN:VTIMEZONE
TZID:Europe/Helsinki
BEGIN:DAYLIGHT
TZOFFSETFROM:+0200
TZOFFSETTO:+0300
TZNAME:EEST
DTSTART:20240331T010000
END:DAYLIGHT
BEGIN:STANDARD
TZOFFSETFROM:+0300
TZOFFSETTO:+0200
TZNAME:EET
DTSTART:20241027T010000
END:STANDARD
BEGIN:DAYLIGHT
TZOFFSETFROM:+0200
TZOFFSETTO:+0300
TZNAME:EEST
DTSTART:20250330T010000
END:DAYLIGHT
BEGIN:STANDARD
TZOFFSETFROM:+0300
TZOFFSETTO:+0200
TZNAME:EET
DTSTART:20251026T010000
END:STANDARD
BEGIN:DAYLIGHT
TZOFFSETFROM:+0200
TZOFFSETTO:+0300
TZNAME:EEST
DTSTART:20260329T010000
END:DAYLIGHT
BEGIN:STANDARD
TZOFFSETFROM:+0300
TZOFFSETTO:+0200
TZNAME:EET
DTSTART:20261025T010000
END:STANDARD
END:VTIMEZONE
BEGIN:VEVENT
DTSTART;TZID=Europe/Helsinki:20251114T210000
DTEND;TZID=Europe/Helsinki:20251114T210000
DTSTAMP:20260422T114120
CREATED:20251110T082920Z
LAST-MODIFIED:20251112T093517Z
UID:10155-1763154000-1763154000@visit.keila.ee
SUMMARY:Kosmikud 25 Vol 2 Keilas
DESCRIPTION:Kosmikud panevad juubeliaastale punkti.\n\nEelmisel sügisel oma 25. tegutsemisaastat tähistanud Kosmikutele on juubeliaasta olnud sündmusterohke: esimest korda karjääri jooksul pärjati bänd Eesti Muusikaauhindadel ja pälviti ka Kuldse Plaadi auhind. Et panna juubelile väärikas punkt\, annavad Kosmikud sel aastal veel viimased neli kontserti: Pärnu taasavatud kultuuriklubis Tempel\, pealinna alternatiivkultuuri mekas Paavli Kultuurivabrikus\, esimest korda Keila Kultuurikeerises ning üle aastate Tartu tudengite meelispaigas Club Illusion. Retrospektiivne kontsert sisaldab lugusid kogu Kosmikute ajaloost.\n\n07.11 Tempel Pärnu08.11 Paavli Kultuurivabrik\, Tallinn14.11 Kultuurikeeris\, Keila15.11 Club Illusion\, Tartu
URL:https://visit.keila.ee/sundmus/kosmikud-25-vol-2-keilas/
LOCATION:Kultuurikeeris\, Piiri 7a\, Keila\, Estonia
CATEGORIES:Kultuurisündmus
ATTACH;FMTTYPE=image/jpeg:https://visit.keila.ee/wp-content/uploads/2025/11/559172439_1397704219025450_6436742208421233352_n.jpg
END:VEVENT
END:VCALENDAR