BEGIN:VCALENDAR
VERSION:2.0
PRODID:-//KEILA LINNA SÜNDMUSED - ECPv6.15.20//NONSGML v1.0//EN
CALSCALE:GREGORIAN
METHOD:PUBLISH
X-WR-CALNAME:KEILA LINNA SÜNDMUSED
X-ORIGINAL-URL:https://visit.keila.ee
X-WR-CALDESC:Events for KEILA LINNA SÜNDMUSED
REFRESH-INTERVAL;VALUE=DURATION:PT1H
X-Robots-Tag:noindex
X-PUBLISHED-TTL:PT1H
BEGIN:VTIMEZONE
TZID:Europe/Helsinki
BEGIN:DAYLIGHT
TZOFFSETFROM:+0200
TZOFFSETTO:+0300
TZNAME:EEST
DTSTART:20240331T010000
END:DAYLIGHT
BEGIN:STANDARD
TZOFFSETFROM:+0300
TZOFFSETTO:+0200
TZNAME:EET
DTSTART:20241027T010000
END:STANDARD
BEGIN:DAYLIGHT
TZOFFSETFROM:+0200
TZOFFSETTO:+0300
TZNAME:EEST
DTSTART:20250330T010000
END:DAYLIGHT
BEGIN:STANDARD
TZOFFSETFROM:+0300
TZOFFSETTO:+0200
TZNAME:EET
DTSTART:20251026T010000
END:STANDARD
BEGIN:DAYLIGHT
TZOFFSETFROM:+0200
TZOFFSETTO:+0300
TZNAME:EEST
DTSTART:20260329T010000
END:DAYLIGHT
BEGIN:STANDARD
TZOFFSETFROM:+0300
TZOFFSETTO:+0200
TZNAME:EET
DTSTART:20261025T010000
END:STANDARD
END:VTIMEZONE
BEGIN:VEVENT
DTSTART;TZID=Europe/Helsinki:20250921T111500
DTEND;TZID=Europe/Helsinki:20250921T150000
DTSTAMP:20260422T163909
CREATED:20250909T054255Z
LAST-MODIFIED:20250909T054255Z
UID:9567-1758453300-1758466800@visit.keila.ee
SUMMARY:Kirnu- ehk Kiimsoo müttamismatk
DESCRIPTION:Retkelise meelespea: \n\nAlgus ja lõpp: Klooga raudteejaam. Kui pole autot\, tule rongiga: Keila 10:59 – Klooga 11:07.\nKaasa: kinnised ja vastupidavad\, niiskust mittekartvad matkajalanõud (vihma korral kummikud)\, ilmale vastavad riided (vajadusel vihmakeep)\, joogivesi (soovituslik vähemalt 0\,75 L)\, kõhutäide (nt. saiakesed\, energiabatoonid).\nMarsruut: 9 km loodusmaastikul ja teedel\, 3-4 tundi.\n\nKlooga aleviku lähistel asuv Kirnusoo (vana nimega Kiimsoo) on kõrgendike vahelisse nõkku kujunenud raba. Tänapäeval ümbritsevad Kirnusood metsatukad\, keskel aga on veel säilinud rabailmselist maastikku kanarbiku\, sookailu ja kidurate mändidega. Sadakond aastat tagasi on talunikud siit turvast võtnud ning kaevamise augud on tänini näha. Raba servas läbime seljandikke: Kangusti linnamäe ja kitsa Surnumäe. Riivamisi möödume hävinud madalsoost Unnismast\, mis asus Kiimsoo kirdenurgas. \nRetkesari “Soorännakud ümber Keila” viib avastama Keila ümbruse (endiseid) soid ja rabasid. Kõigis neis on looduslik veerežiim kraavitamise või turba kaevandamisega rikutud ning endisaegne ilme hävinud. Põnevad ja metsikud paigad on need aga sellegipoolest. Läki üheskoos rändama ja müttama! \nRetkesarjas seni toimunud: \n\n#1. Niitvälja madalsoo ehk Sinemi soo (09.03.2025)\n#2. Lüdrestisoo (23.03.2025)\n#3. Ohtu raba (06.04.2025)\n#4. Ristissoo (19.04.2025)\n#5. Mättasoo ja Marjassoo (07.09.2025)
URL:https://visit.keila.ee/sundmus/kirnu-ehk-kiimsoo-muttamismatk/
CATEGORIES:Spordisündmus
ATTACH;FMTTYPE=image/jpeg:https://visit.keila.ee/wp-content/uploads/2025/09/IMG_20250908_194735374_HDR-EDIT-scaled.jpg
ORGANIZER;CN="MT%C3%9C Oma Retked":MAILTO:kadri.aller@gmail.com
END:VEVENT
END:VCALENDAR