BEGIN:VCALENDAR
VERSION:2.0
PRODID:-//KEILA LINNA SÜNDMUSED - ECPv6.15.20//NONSGML v1.0//EN
CALSCALE:GREGORIAN
METHOD:PUBLISH
X-WR-CALNAME:KEILA LINNA SÜNDMUSED
X-ORIGINAL-URL:https://visit.keila.ee
X-WR-CALDESC:Events for KEILA LINNA SÜNDMUSED
REFRESH-INTERVAL;VALUE=DURATION:PT1H
X-Robots-Tag:noindex
X-PUBLISHED-TTL:PT1H
BEGIN:VTIMEZONE
TZID:Europe/Helsinki
BEGIN:DAYLIGHT
TZOFFSETFROM:+0200
TZOFFSETTO:+0300
TZNAME:EEST
DTSTART:20250330T010000
END:DAYLIGHT
BEGIN:STANDARD
TZOFFSETFROM:+0300
TZOFFSETTO:+0200
TZNAME:EET
DTSTART:20251026T010000
END:STANDARD
BEGIN:DAYLIGHT
TZOFFSETFROM:+0200
TZOFFSETTO:+0300
TZNAME:EEST
DTSTART:20260329T010000
END:DAYLIGHT
BEGIN:STANDARD
TZOFFSETFROM:+0300
TZOFFSETTO:+0200
TZNAME:EET
DTSTART:20261025T010000
END:STANDARD
BEGIN:DAYLIGHT
TZOFFSETFROM:+0200
TZOFFSETTO:+0300
TZNAME:EEST
DTSTART:20270328T010000
END:DAYLIGHT
BEGIN:STANDARD
TZOFFSETFROM:+0300
TZOFFSETTO:+0200
TZNAME:EET
DTSTART:20271031T010000
END:STANDARD
END:VTIMEZONE
BEGIN:VEVENT
DTSTART;TZID=Europe/Helsinki:20260501T140000
DTEND;TZID=Europe/Helsinki:20260501T153000
DTSTAMP:20260425T232257
CREATED:20260424T064416Z
LAST-MODIFIED:20260424T064416Z
UID:12053-1777644000-1777649400@visit.keila.ee
SUMMARY:Keila linna sünnipäev
DESCRIPTION:Keila linna sünnipäeva tähistame 1.mail kell  14.00 kontserdiga Keila Miikaeli kirikus. Esinevad Keila rivitrummarid\, Keila Linnaorkester ning solist Marek Sadam.  \nSissepääs tasuta\, annetus kirikule on soovitatav. 
URL:https://visit.keila.ee/sundmus/keila-linna-sunnipaev/
LOCATION:Keila Mihkli kirik\, Tuula tee\, Keila\, 76608
CATEGORIES:Kontsert
ATTACH;FMTTYPE=image/jpeg:https://visit.keila.ee/wp-content/uploads/2026/04/661778776_1355102683314582_1451876125517605076_n.jpg
END:VEVENT
END:VCALENDAR