BEGIN:VCALENDAR
VERSION:2.0
PRODID:-//KEILA LINNA SÜNDMUSED - ECPv6.15.20//NONSGML v1.0//EN
CALSCALE:GREGORIAN
METHOD:PUBLISH
X-WR-CALNAME:KEILA LINNA SÜNDMUSED
X-ORIGINAL-URL:https://visit.keila.ee
X-WR-CALDESC:Events for KEILA LINNA SÜNDMUSED
REFRESH-INTERVAL;VALUE=DURATION:PT1H
X-Robots-Tag:noindex
X-PUBLISHED-TTL:PT1H
BEGIN:VTIMEZONE
TZID:Europe/Helsinki
BEGIN:DAYLIGHT
TZOFFSETFROM:+0200
TZOFFSETTO:+0300
TZNAME:EEST
DTSTART:20250330T010000
END:DAYLIGHT
BEGIN:STANDARD
TZOFFSETFROM:+0300
TZOFFSETTO:+0200
TZNAME:EET
DTSTART:20251026T010000
END:STANDARD
BEGIN:DAYLIGHT
TZOFFSETFROM:+0200
TZOFFSETTO:+0300
TZNAME:EEST
DTSTART:20260329T010000
END:DAYLIGHT
BEGIN:STANDARD
TZOFFSETFROM:+0300
TZOFFSETTO:+0200
TZNAME:EET
DTSTART:20261025T010000
END:STANDARD
BEGIN:DAYLIGHT
TZOFFSETFROM:+0200
TZOFFSETTO:+0300
TZNAME:EEST
DTSTART:20270328T010000
END:DAYLIGHT
BEGIN:STANDARD
TZOFFSETFROM:+0300
TZOFFSETTO:+0200
TZNAME:EET
DTSTART:20271031T010000
END:STANDARD
END:VTIMEZONE
BEGIN:VEVENT
DTSTART;TZID=Europe/Helsinki:20260306T120000
DTEND;TZID=Europe/Helsinki:20260306T183000
DTSTAMP:20260423T131147
CREATED:20260217T162354Z
LAST-MODIFIED:20260217T162354Z
UID:11272-1772798400-1772821800@visit.keila.ee
SUMMARY:Keila Keskuse avamine ja välikontsert!
DESCRIPTION:Ootame sind tähistama Keila Keskuse avamist! \n\n\nTule koos pere ja sõpradega – ees ootab elamusterohke päev\, mis on täis muusikat\, üllatusi ja meelelahutust. \n\n\nKell 12.00 – Avapidu Avapeo keerutab käima DJ Kristjan Hirmo Eripakkumised ja üllatused kauplustelt ja esindustelt Loosimised\, auhinnad ja palju põnevat kogu päeva jooksul Päeva juhib armastatud telesaatejuht Robert Rool \n\n\nKell 15.30–18.30 – Keila Keskuse välikontsert \n\n\nLaval: villemdrillem & band Ivo Linna ja Supernova Traffic \n\nTule ja saa osa suurest avamispeost!
URL:https://visit.keila.ee/sundmus/keila-keskuse-avamine-ja-valikontsert/
CATEGORIES:Kontsert
ATTACH;FMTTYPE=image/png:https://visit.keila.ee/wp-content/uploads/2026/02/Keila_Keskus_avamine_event_header_1920x1080-scaled.png
END:VEVENT
END:VCALENDAR