BEGIN:VCALENDAR
VERSION:2.0
PRODID:-//KEILA LINNA SÜNDMUSED - ECPv6.15.20//NONSGML v1.0//EN
CALSCALE:GREGORIAN
METHOD:PUBLISH
X-WR-CALNAME:KEILA LINNA SÜNDMUSED
X-ORIGINAL-URL:https://visit.keila.ee
X-WR-CALDESC:Events for KEILA LINNA SÜNDMUSED
REFRESH-INTERVAL;VALUE=DURATION:PT1H
X-Robots-Tag:noindex
X-PUBLISHED-TTL:PT1H
BEGIN:VTIMEZONE
TZID:Europe/Helsinki
BEGIN:DAYLIGHT
TZOFFSETFROM:+0200
TZOFFSETTO:+0300
TZNAME:EEST
DTSTART:20250330T010000
END:DAYLIGHT
BEGIN:STANDARD
TZOFFSETFROM:+0300
TZOFFSETTO:+0200
TZNAME:EET
DTSTART:20251026T010000
END:STANDARD
BEGIN:DAYLIGHT
TZOFFSETFROM:+0200
TZOFFSETTO:+0300
TZNAME:EEST
DTSTART:20260329T010000
END:DAYLIGHT
BEGIN:STANDARD
TZOFFSETFROM:+0300
TZOFFSETTO:+0200
TZNAME:EET
DTSTART:20261025T010000
END:STANDARD
BEGIN:DAYLIGHT
TZOFFSETFROM:+0200
TZOFFSETTO:+0300
TZNAME:EEST
DTSTART:20270328T010000
END:DAYLIGHT
BEGIN:STANDARD
TZOFFSETFROM:+0300
TZOFFSETTO:+0200
TZNAME:EET
DTSTART:20271031T010000
END:STANDARD
END:VTIMEZONE
BEGIN:VEVENT
DTSTART;TZID=Europe/Helsinki:20260209T103000
DTEND;TZID=Europe/Helsinki:20260209T123000
DTSTAMP:20260423T170731
CREATED:20260126T111743Z
LAST-MODIFIED:20260126T111743Z
UID:11039-1770633000-1770640200@visit.keila.ee
SUMMARY:Karini töötuba - karbi kaunistamine
DESCRIPTION:9.veebruaril 2026 kell 10.30 ootab Karin Välja huvilisi karbi (vm eseme) kaunistamise töötuppa.Osalejatel palun kaasa võtta ese\, mida dekoreerida (tass\, pudel\, puidust või muust materjalist karbike\, kaunistuseks katki läinud ehteid\, väikseid võtmeid\, hammasrattaid\, pitsi-paela jupid jne. Kohapeal on ka olemas igasugu “mudru”.Töötuba on Keila linna elanikele tasuta\, teistele 3.-Registreeri töötuppa tiiu@keilasots.ee võitelefonil 524 7284
URL:https://visit.keila.ee/sundmus/karini-tootuba-karbi-kaunistamine/
LOCATION:Keila Sotsiaalkeskus\, Männipargi 1-3\, Keila
CATEGORIES:Muu
ATTACH;FMTTYPE=image/png:https://visit.keila.ee/wp-content/uploads/2026/01/Tahad-ka-sellist-karpi-Voi-samas-stiilis-kujundatud-pudelit-voi-topsi.png
ORGANIZER;CN="Keila Sotsiaalkeskus":MAILTO:info@keilasots.ee
END:VEVENT
END:VCALENDAR