BEGIN:VCALENDAR
VERSION:2.0
PRODID:-//KEILA LINNA SÜNDMUSED - ECPv6.15.20//NONSGML v1.0//EN
CALSCALE:GREGORIAN
METHOD:PUBLISH
X-WR-CALNAME:KEILA LINNA SÜNDMUSED
X-ORIGINAL-URL:https://visit.keila.ee
X-WR-CALDESC:Events for KEILA LINNA SÜNDMUSED
REFRESH-INTERVAL;VALUE=DURATION:PT1H
X-Robots-Tag:noindex
X-PUBLISHED-TTL:PT1H
BEGIN:VTIMEZONE
TZID:Europe/Helsinki
BEGIN:DAYLIGHT
TZOFFSETFROM:+0200
TZOFFSETTO:+0300
TZNAME:EEST
DTSTART:20250330T010000
END:DAYLIGHT
BEGIN:STANDARD
TZOFFSETFROM:+0300
TZOFFSETTO:+0200
TZNAME:EET
DTSTART:20251026T010000
END:STANDARD
BEGIN:DAYLIGHT
TZOFFSETFROM:+0200
TZOFFSETTO:+0300
TZNAME:EEST
DTSTART:20260329T010000
END:DAYLIGHT
BEGIN:STANDARD
TZOFFSETFROM:+0300
TZOFFSETTO:+0200
TZNAME:EET
DTSTART:20261025T010000
END:STANDARD
BEGIN:DAYLIGHT
TZOFFSETFROM:+0200
TZOFFSETTO:+0300
TZNAME:EEST
DTSTART:20270328T010000
END:DAYLIGHT
BEGIN:STANDARD
TZOFFSETFROM:+0300
TZOFFSETTO:+0200
TZNAME:EET
DTSTART:20271031T010000
END:STANDARD
END:VTIMEZONE
BEGIN:VEVENT
DTSTART;TZID=Europe/Helsinki:20260411T130000
DTEND;TZID=Europe/Helsinki:20260411T143000
DTSTAMP:20260422T182302
CREATED:20260326T094438Z
LAST-MODIFIED:20260326T095436Z
UID:11678-1775912400-1775917800@visit.keila.ee
SUMMARY:Hülged inimeste ajaloo ja tuleviku kujundajatena
DESCRIPTION:aprillil tulevad Harjumaa Muuseumisse külla hülgeuurija Mart Jüssi ning hülgehuviline Meelis Peet. Juttu tuleb nii hüljeste olulisusest ökosüsteemis ja nende kultuurilisest rollist kui ka tänapäevasest hülge küttimisest ja väärindamisest.\n\nInimesed ja mereimetajad on rannikul ja mereavarustel kokku puutunud aastatuhandeid. Kuigi piiblilugu räägib sellest\, kuidas vaal Joonase alla neelas\, on tegelikkuses mereimetajate püük ja söömine olnud ikka inimeste pärusmaa. Paljud rannikuelanikud seadsid oma elu mereandide järgi\, tänu millele said nad jääda paiksemaks. Aja jooksul on aga toidueelistused ja tarbematerjali vajadused mõneti muutunud\, mistõttu vaadatakse hüljeste peale teise pilguga\, vahest isegi viltu. Samas on need loomad olulised näiteks mere tervisest arusaamiseks ning tunnimeesteks inimese ja reostuse hiilivate ohtude vahel. Kui seda teada ja mõista\, saame tagada endale tervislikuma tuleviku. – Mart Jüssi \nArutelu algab kell 13.00 Harjumaa Muuseumi püsinäitusel. \nSissepääs on muuseumipileti (3 €/ 5 €) või muuseumikaardiga. \nTule kuulama ja saa targemaks! \nLisamärkus: Harjumaa Muuseumis on avatud näitus „Amandus 170”. Plakatil on üks Amandus Adamsoni kuulsamaid teoseid „Hülgekütt Pakri saarelt” (EKM j 18341 S 1222\, Eesti Kunstimuuseum SA\, http://www.muis.ee/museaalview/1446299). \n 
URL:https://visit.keila.ee/sundmus/hulged-inimeste-ajaloo-ja-tuleviku-kujundajatena/
LOCATION:Harjumaa Muuseum\, Linnuse 9\, Keila
CATEGORIES:loeng
ATTACH;FMTTYPE=image/png:https://visit.keila.ee/wp-content/uploads/2026/03/Hulged-FB-postitus.png
END:VEVENT
END:VCALENDAR