BEGIN:VCALENDAR
VERSION:2.0
PRODID:-//KEILA LINNA SÜNDMUSED - ECPv6.15.20//NONSGML v1.0//EN
CALSCALE:GREGORIAN
METHOD:PUBLISH
X-WR-CALNAME:KEILA LINNA SÜNDMUSED
X-ORIGINAL-URL:https://visit.keila.ee
X-WR-CALDESC:Events for KEILA LINNA SÜNDMUSED
REFRESH-INTERVAL;VALUE=DURATION:PT1H
X-Robots-Tag:noindex
X-PUBLISHED-TTL:PT1H
BEGIN:VTIMEZONE
TZID:Europe/Helsinki
BEGIN:DAYLIGHT
TZOFFSETFROM:+0200
TZOFFSETTO:+0300
TZNAME:EEST
DTSTART:20250330T010000
END:DAYLIGHT
BEGIN:STANDARD
TZOFFSETFROM:+0300
TZOFFSETTO:+0200
TZNAME:EET
DTSTART:20251026T010000
END:STANDARD
BEGIN:DAYLIGHT
TZOFFSETFROM:+0200
TZOFFSETTO:+0300
TZNAME:EEST
DTSTART:20260329T010000
END:DAYLIGHT
BEGIN:STANDARD
TZOFFSETFROM:+0300
TZOFFSETTO:+0200
TZNAME:EET
DTSTART:20261025T010000
END:STANDARD
BEGIN:DAYLIGHT
TZOFFSETFROM:+0200
TZOFFSETTO:+0300
TZNAME:EEST
DTSTART:20270328T010000
END:DAYLIGHT
BEGIN:STANDARD
TZOFFSETFROM:+0300
TZOFFSETTO:+0200
TZNAME:EET
DTSTART:20271031T010000
END:STANDARD
END:VTIMEZONE
BEGIN:VEVENT
DTSTART;TZID=Europe/Helsinki:20260120T193000
DTEND;TZID=Europe/Helsinki:20260120T213000
DTSTAMP:20260422T235821
CREATED:20260116T071734Z
LAST-MODIFIED:20260120T061826Z
UID:10956-1768937400-1768944600@visit.keila.ee
SUMMARY:ENBL: Keila Coolbet vs Sigal Prishtina
DESCRIPTION:ENBL korvpalliliiga selle hooaja viimases kohtumises võtame kodus vastu Kosovast pärit Sigal Prishtina meeskonna.\n20.01.2026Algus: 19:30Uksed: 18.30Keila Tervisekeskus\nPILETIINFO:Täispilet eelmüügist 10€ / kohapeal 12€Sooduspilet (8.-19. aastased\, üliõpilased\, pensionärid\, puuetega inimesed) eelmüügist 5€ / kohapeal 6€Lastele vanuses 0-7 sissepääs tasuta.\nhttps://www.piletitasku.ee/et/event/9187\nKohapeal ootavad sind:· Õhtujuht· Keila Coolbeti tantsutüdrukud· Auhinnamängud – Auhinnad on välja pannud Daily!· Mõnus puhvet· Uksed avame tund enne mängu!
URL:https://visit.keila.ee/sundmus/enbl-keila-colbet-vs-sigal-prishtina/
LOCATION:Keila Tervisekeskus\, Paldiski mnt 17\, Keila
CATEGORIES:Spordisündmus
ATTACH;FMTTYPE=image/jpeg:https://visit.keila.ee/wp-content/uploads/2026/01/616115493_849111467899142_6904750262539642067_n.jpg
END:VEVENT
END:VCALENDAR