BEGIN:VCALENDAR
VERSION:2.0
PRODID:-//KEILA LINNA SÜNDMUSED - ECPv6.15.20//NONSGML v1.0//EN
CALSCALE:GREGORIAN
METHOD:PUBLISH
X-WR-CALNAME:KEILA LINNA SÜNDMUSED
X-ORIGINAL-URL:https://visit.keila.ee
X-WR-CALDESC:Events for KEILA LINNA SÜNDMUSED
REFRESH-INTERVAL;VALUE=DURATION:PT1H
X-Robots-Tag:noindex
X-PUBLISHED-TTL:PT1H
BEGIN:VTIMEZONE
TZID:Europe/Helsinki
BEGIN:DAYLIGHT
TZOFFSETFROM:+0200
TZOFFSETTO:+0300
TZNAME:EEST
DTSTART:20250330T010000
END:DAYLIGHT
BEGIN:STANDARD
TZOFFSETFROM:+0300
TZOFFSETTO:+0200
TZNAME:EET
DTSTART:20251026T010000
END:STANDARD
BEGIN:DAYLIGHT
TZOFFSETFROM:+0200
TZOFFSETTO:+0300
TZNAME:EEST
DTSTART:20260329T010000
END:DAYLIGHT
BEGIN:STANDARD
TZOFFSETFROM:+0300
TZOFFSETTO:+0200
TZNAME:EET
DTSTART:20261025T010000
END:STANDARD
BEGIN:DAYLIGHT
TZOFFSETFROM:+0200
TZOFFSETTO:+0300
TZNAME:EEST
DTSTART:20270328T010000
END:DAYLIGHT
BEGIN:STANDARD
TZOFFSETFROM:+0300
TZOFFSETTO:+0200
TZNAME:EET
DTSTART:20271031T010000
END:STANDARD
END:VTIMEZONE
BEGIN:VEVENT
DTSTART;TZID=Europe/Helsinki:20260311T123000
DTEND;TZID=Europe/Helsinki:20260311T140000
DTSTAMP:20260422T181007
CREATED:20260304T190826Z
LAST-MODIFIED:20260304T190826Z
UID:11430-1773232200-1773237600@visit.keila.ee
SUMMARY:Emakeelepäev. Külas Pärja Kesküla
DESCRIPTION:Keila Sotsiaalkeskuses tähistatajse emakeelepäeva 11.märtsil 2026 kell 12.30. Külas on endine ajakirjanik ja emakeele õpetaja Pärja Kesküla\, kes räägib emakeelepäevast\, õ-tähe kujunemisest\, õ-mehest Masingust nagu me teame või on ka siin mingi segadus… Tule kohale ja saa teada!
URL:https://visit.keila.ee/sundmus/emakeelepaev-kulas-parja-keskula/
LOCATION:Keila Sotsiaalkeskus\, Männipargi 1-3\, Keila
CATEGORIES:loeng
ATTACH;FMTTYPE=image/png:https://visit.keila.ee/wp-content/uploads/2026/03/Oo.png
ORGANIZER;CN="Keila Sotsiaalkeskus":MAILTO:info@keilasots.ee
END:VEVENT
END:VCALENDAR