BEGIN:VCALENDAR
VERSION:2.0
PRODID:-//KEILA LINNA SÜNDMUSED - ECPv6.15.20//NONSGML v1.0//EN
CALSCALE:GREGORIAN
METHOD:PUBLISH
X-WR-CALNAME:KEILA LINNA SÜNDMUSED
X-ORIGINAL-URL:https://visit.keila.ee
X-WR-CALDESC:Events for KEILA LINNA SÜNDMUSED
REFRESH-INTERVAL;VALUE=DURATION:PT1H
X-Robots-Tag:noindex
X-PUBLISHED-TTL:PT1H
BEGIN:VTIMEZONE
TZID:Europe/Helsinki
BEGIN:DAYLIGHT
TZOFFSETFROM:+0200
TZOFFSETTO:+0300
TZNAME:EEST
DTSTART:20250330T010000
END:DAYLIGHT
BEGIN:STANDARD
TZOFFSETFROM:+0300
TZOFFSETTO:+0200
TZNAME:EET
DTSTART:20251026T010000
END:STANDARD
BEGIN:DAYLIGHT
TZOFFSETFROM:+0200
TZOFFSETTO:+0300
TZNAME:EEST
DTSTART:20260329T010000
END:DAYLIGHT
BEGIN:STANDARD
TZOFFSETFROM:+0300
TZOFFSETTO:+0200
TZNAME:EET
DTSTART:20261025T010000
END:STANDARD
BEGIN:DAYLIGHT
TZOFFSETFROM:+0200
TZOFFSETTO:+0300
TZNAME:EEST
DTSTART:20270328T010000
END:DAYLIGHT
BEGIN:STANDARD
TZOFFSETFROM:+0300
TZOFFSETTO:+0200
TZNAME:EET
DTSTART:20271031T010000
END:STANDARD
END:VTIMEZONE
BEGIN:VEVENT
DTSTART;TZID=Europe/Helsinki:20260618T090000
DTEND;TZID=Europe/Helsinki:20260619T160000
DTSTAMP:20260423T131828
CREATED:20260409T135034Z
LAST-MODIFIED:20260409T135034Z
UID:11870-1781773200-1781884800@visit.keila.ee
SUMMARY:Akrobaatika linnalaagrid koolilastele
DESCRIPTION: Akrobaatika linnalaagrid  koolilastele!\n\n\n\nKas sinu laps armastab ronida\, hüpata ja uusi trikke õppida?\nTule suvel meie lõbusatesse ja kaasahaaravatesse linnalaagritesse Sauel!\n\n\n\n Registreerimine:\nhttps://partnerakro.ee/sundmused/laagrid/\n\n\n\nMida laagris teeme?\n\n\n Õhuakrobaatika treeningud\n Tsirkuse tunnid (žongleerimine\, monoratas\, diabolod\, rull)\n Hüppete tunnid hüpperajal\n Akrobaatika tunnid\n Loovtunnid (meisterdamine või mängulised teaduskatsed)\n\n\n\nLaager arendab:\n kehatunnetust ja koordinatsiooni\n enesekindlust\n loovust\n meeskonnatöö oskuseid\n\n\nKuupäevad:\n• 18 – 19 JUUNI\n• 20-22 JUULI\n• 23 ja 24 JUULI\n• 17-19 AUGUST\n• 24. AUGUST\n\n Varajase registreerija soodushind kehtib piiratud aja!
URL:https://visit.keila.ee/sundmus/akrobaatika-linnalaagrid-koolilastele/
LOCATION:Keila linnas\, Keila linn
CATEGORIES:Noortesündmus,Spordisündmus
ATTACH;FMTTYPE=image/jpeg:https://visit.keila.ee/wp-content/uploads/2026/04/keila1.jpg
ORGANIZER;CN="PARTNERAKRO":MAILTO:info@partnerakro.ee
END:VEVENT
END:VCALENDAR